BEGIN:VCALENDAR
VERSION:2.0
PRODID:-//Greater London South West County Scouts - ECPv6.15.20//NONSGML v1.0//EN
CALSCALE:GREGORIAN
METHOD:PUBLISH
X-ORIGINAL-URL:https://glswscouts.org.uk
X-WR-CALDESC:Events for Greater London South West County Scouts
REFRESH-INTERVAL;VALUE=DURATION:PT1H
X-Robots-Tag:noindex
X-PUBLISHED-TTL:PT1H
BEGIN:VTIMEZONE
TZID:Europe/London
BEGIN:DAYLIGHT
TZOFFSETFROM:+0000
TZOFFSETTO:+0100
TZNAME:BST
DTSTART:20220327T010000
END:DAYLIGHT
BEGIN:STANDARD
TZOFFSETFROM:+0100
TZOFFSETTO:+0000
TZNAME:GMT
DTSTART:20221030T010000
END:STANDARD
BEGIN:DAYLIGHT
TZOFFSETFROM:+0000
TZOFFSETTO:+0100
TZNAME:BST
DTSTART:20230326T010000
END:DAYLIGHT
BEGIN:STANDARD
TZOFFSETFROM:+0100
TZOFFSETTO:+0000
TZNAME:GMT
DTSTART:20231029T010000
END:STANDARD
BEGIN:DAYLIGHT
TZOFFSETFROM:+0000
TZOFFSETTO:+0100
TZNAME:BST
DTSTART:20240331T010000
END:DAYLIGHT
BEGIN:STANDARD
TZOFFSETFROM:+0100
TZOFFSETTO:+0000
TZNAME:GMT
DTSTART:20241027T010000
END:STANDARD
END:VTIMEZONE
BEGIN:VEVENT
DTSTART;VALUE=DATE:20231021
DTEND;VALUE=DATE:20231024
DTSTAMP:20260426T002421
CREATED:20230924T200555Z
LAST-MODIFIED:20230924T200555Z
UID:1248-1697846400-1698105599@glswscouts.org.uk
SUMMARY:Explorer Mountain Weekend - Wildcamping
DESCRIPTION:https://www.trybooking.co.uk/CQOT
URL:https://glswscouts.org.uk/event/explorer-mountain-weekend-wildcamping/
LOCATION:Wales
CATEGORIES:Peak
ORGANIZER;CN="Peak ASU":MAILTO:peakasu@glswscouts.org.uk
END:VEVENT
BEGIN:VEVENT
DTSTART;TZID=Europe/London:20231026T080000
DTEND;TZID=Europe/London:20231029T170000
DTSTAMP:20260426T002422
CREATED:20230924T200706Z
LAST-MODIFIED:20230924T200706Z
UID:1250-1698307200-1698598800@glswscouts.org.uk
SUMMARY:Explorer Mountain Weekend - Mountaineering
DESCRIPTION:https://www.trybooking.co.uk/CQOT
URL:https://glswscouts.org.uk/event/explorer-mountain-weekend-mountaineering/
LOCATION:Wales
CATEGORIES:Peak
ORGANIZER;CN="Peak ASU":MAILTO:peakasu@glswscouts.org.uk
END:VEVENT
END:VCALENDAR